BEGIN:VCALENDAR
VERSION:2.0
PRODID:-//CHESS - ECPv6.15.20//NONSGML v1.0//EN
CALSCALE:GREGORIAN
METHOD:PUBLISH
X-WR-CALNAME:CHESS
X-ORIGINAL-URL:https://chess-eu.cs.ut.ee
X-WR-CALDESC:Events for CHESS
REFRESH-INTERVAL;VALUE=DURATION:PT1H
X-Robots-Tag:noindex
X-PUBLISHED-TTL:PT1H
BEGIN:VTIMEZONE
TZID:Europe/Prague
BEGIN:DAYLIGHT
TZOFFSETFROM:+0100
TZOFFSETTO:+0200
TZNAME:CEST
DTSTART:20230326T010000
END:DAYLIGHT
BEGIN:STANDARD
TZOFFSETFROM:+0200
TZOFFSETTO:+0100
TZNAME:CET
DTSTART:20231029T010000
END:STANDARD
BEGIN:DAYLIGHT
TZOFFSETFROM:+0100
TZOFFSETTO:+0200
TZNAME:CEST
DTSTART:20240331T010000
END:DAYLIGHT
BEGIN:STANDARD
TZOFFSETFROM:+0200
TZOFFSETTO:+0100
TZNAME:CET
DTSTART:20241027T010000
END:STANDARD
BEGIN:DAYLIGHT
TZOFFSETFROM:+0100
TZOFFSETTO:+0200
TZNAME:CEST
DTSTART:20250330T010000
END:DAYLIGHT
BEGIN:STANDARD
TZOFFSETFROM:+0200
TZOFFSETTO:+0100
TZNAME:CET
DTSTART:20251026T010000
END:STANDARD
END:VTIMEZONE
BEGIN:VTIMEZONE
TZID:Europe/Tallinn
BEGIN:DAYLIGHT
TZOFFSETFROM:+0200
TZOFFSETTO:+0300
TZNAME:EEST
DTSTART:20230326T010000
END:DAYLIGHT
BEGIN:STANDARD
TZOFFSETFROM:+0300
TZOFFSETTO:+0200
TZNAME:EET
DTSTART:20231029T010000
END:STANDARD
BEGIN:DAYLIGHT
TZOFFSETFROM:+0200
TZOFFSETTO:+0300
TZNAME:EEST
DTSTART:20240331T010000
END:DAYLIGHT
BEGIN:STANDARD
TZOFFSETFROM:+0300
TZOFFSETTO:+0200
TZNAME:EET
DTSTART:20241027T010000
END:STANDARD
BEGIN:DAYLIGHT
TZOFFSETFROM:+0200
TZOFFSETTO:+0300
TZNAME:EEST
DTSTART:20250330T010000
END:DAYLIGHT
BEGIN:STANDARD
TZOFFSETFROM:+0300
TZOFFSETTO:+0200
TZNAME:EET
DTSTART:20251026T010000
END:STANDARD
END:VTIMEZONE
BEGIN:VEVENT
DTSTART;TZID=Europe/Prague:20241022T130000
DTEND;TZID=Europe/Prague:20241022T150000
DTSTAMP:20260420T003319
CREATED:20241016T080959Z
LAST-MODIFIED:20241016T082015Z
UID:7614-1729602000-1729609200@chess-eu.cs.ut.ee
SUMMARY:Cyber ​​Security Conference 2024
DESCRIPTION:Konference kybernetická bezpečnost 2024\n\nOn October 22nd\, 2024\, BUT is hosting a workshop designed for high school teachers who would like to implement (or are already implementing) cybersecurity education. Both proven and new methods of education will be presented\, with an emphasis on hands-on learning that is critical to cybersecurity.\n \nWorkshop content\n \n\nIntroduction to Cybersecurity Education\nThe impact of interactivity and gamification on the learning process\nMaterials\, tools\, and techniques for hands-on training\nA case study of teaching cybersecurity in high school\nSharing experiences and free discussion\n\n\n \nDate and time \n22.10.2024 13:00-15:00\n \nVenue \nTechnická 12\, 616 00 Brno Room T12/SC 5.37 (Department of Telecommunications)\n \n\nRegistration\n\n \nFor more details:\nhttps://www.fekt.vut.cz/o_fakulte/akce/264411
URL:https://chess-eu.cs.ut.ee/event/cyber-security-conference-2024/
LOCATION:FEKT\, Technická 12\, 616 00\, Brno\, Czech Republic
ORGANIZER;CN="FEKT Department of Telecommunications":MAILTO:fekt-info@vut.cz
END:VEVENT
BEGIN:VEVENT
DTSTART;VALUE=DATE:20241029
DTEND;VALUE=DATE:20241030
DTSTAMP:20260420T003319
CREATED:20241010T124938Z
LAST-MODIFIED:20241010T125729Z
UID:7557-1730160000-1730246399@chess-eu.cs.ut.ee
SUMMARY:Seminar Empowering Innovation: The Strategic Value of IP
DESCRIPTION:The EU-13 Roadshow is a major initiative aimed at closing the innovation gap across Europe’s Widening regions. These events will unite key stakeholders from diverse sectors to establish an interactive Community of Practice\, facilitating for the exchange of knowledge and best practices in intellectual asset management and innovation support. \n\n\n\nThe roadshow events offer targeted training and networking opportunities\, tailored to the unique needs and priorities of local communities. By collaborating closely with these ecosystems\, the European IP Helpdesk ensures that the events address the most pertinent topics and provide tangible benefits to all participants. The Brno event is the second event of the series and will kick off with a session from European IP Helpdesk on “IP as a Business Asset”\, presented by Michele Dubbini and commercializing intellectual property and guiding innovations “From research labs to the marketplace” presented by Ivana Vuka. Participants will have the opportunity to engage in interactive panel discussions with the highlighted regional success stories. In the last part\, services designed to aid companies and researchers in navigating the complex landscape of intellectual property and innovation will be presented. \n\n\n\nA total of six events will take place in 2024 and 2025. These events are organized in collaboration with European IP Helpdesk Ambassadors Network\, regional partners such as European Patent Office (EPO) PATLIBs network and National Intellectual Property Offices (NIPOs)\, and are supported by international innovation support organizations\, such as the EPO\, European Union Intellectual Property Office (EUIPO)\, European Institute of Innovation & Technology (EIT)\, and Enterprise Europe Network (EEN). \nWho should participate? \n\n\n\n\n\n\nSMEs\n\n\n\nStartups\n\n\n\nResearchers\n\n\n\nBeneficiaries of EU funded projects\n\n\n\nInnovation support organisations\n\n\n\n\nWhy Attend? \n\n\n\nParticipants will have the unique opportunity to: \n\n\n\n\nNetwork: Connect with like-minded professionals and innovators.\n\n\n\nLearn: Gain insights and firsthand experiences shared by regional companies and research projects.\n\n\n\nAccess Support: Discover the services available to help you thrive in the innovation landscape.\n\n\n\n\nEvent details \n\n\n\n\n? Location: Brno\, Czech Republic (Jihomoravské inovační centrum\, JIC Purkyňova 127)\n\n\n\n? Date: 29 October\n\n\n\n? Agenda: Agenda Brno EU-13 Event\n\n\n\n\nRegister here: https://intellectual-property-helpdesk.ec.europa.eu/news-events/upcoming-events/eu-13-roadshow-strengthening-ip-awareness-and-community-engagement-widening-countries-brno-2024-10-29_en
URL:https://chess-eu.cs.ut.ee/event/eu-13-roadshow-strengthening-ip-awareness-and-community-engagement-in-the-widening-countries-brno/
LOCATION:Jihomoravské inovační centrum\, IC Purkyňova 127\, 61200\, Brno\, Medlánky\, Czech Republic
END:VEVENT
END:VCALENDAR