BEGIN:VCALENDAR
VERSION:2.0
PRODID:-//CHESS - ECPv6.15.20//NONSGML v1.0//EN
CALSCALE:GREGORIAN
METHOD:PUBLISH
X-ORIGINAL-URL:https://chess-eu.cs.ut.ee
X-WR-CALDESC:Events for CHESS
REFRESH-INTERVAL;VALUE=DURATION:PT1H
X-Robots-Tag:noindex
X-PUBLISHED-TTL:PT1H
BEGIN:VTIMEZONE
TZID:Europe/Tallinn
BEGIN:DAYLIGHT
TZOFFSETFROM:+0200
TZOFFSETTO:+0300
TZNAME:EEST
DTSTART:20230326T010000
END:DAYLIGHT
BEGIN:STANDARD
TZOFFSETFROM:+0300
TZOFFSETTO:+0200
TZNAME:EET
DTSTART:20231029T010000
END:STANDARD
BEGIN:DAYLIGHT
TZOFFSETFROM:+0200
TZOFFSETTO:+0300
TZNAME:EEST
DTSTART:20240331T010000
END:DAYLIGHT
BEGIN:STANDARD
TZOFFSETFROM:+0300
TZOFFSETTO:+0200
TZNAME:EET
DTSTART:20241027T010000
END:STANDARD
BEGIN:DAYLIGHT
TZOFFSETFROM:+0200
TZOFFSETTO:+0300
TZNAME:EEST
DTSTART:20250330T010000
END:DAYLIGHT
BEGIN:STANDARD
TZOFFSETFROM:+0300
TZOFFSETTO:+0200
TZNAME:EET
DTSTART:20251026T010000
END:STANDARD
END:VTIMEZONE
BEGIN:VEVENT
DTSTART;TZID=Europe/Tallinn:20241111T080000
DTEND;TZID=Europe/Tallinn:20241120T170000
DTSTAMP:20260419T225517
CREATED:20241010T130103Z
LAST-MODIFIED:20241012T181014Z
UID:7593-1731312000-1732122000@chess-eu.cs.ut.ee
SUMMARY:Grantsweek MUNI
DESCRIPTION:Your opportunity to find out all you need to know about research funding.​ \n\n\nGrants Week 2024 builds on the success of the previous annual events. Grants Week aims to provide researchers and research support staff with practical and useful information about grant programmes focusing on national and international grants\, especially the European Commission Horizon EUROPE. \n\n\nIntroduce grant opportunities\nMotivate to active participation in funding programmes for research\nShare good practice on how to prepare a successful grant proposal\n\n\nDetailed programme: \nhttps://www.grantsweek.muni.cz/programme \n\n 
URL:https://chess-eu.cs.ut.ee/event/grantsweek-muni/
LOCATION:Masaryk University\, Komenského nám. 2\, 602 00\, Brno\, Czech Republic
END:VEVENT
BEGIN:VEVENT
DTSTART;TZID=Europe/Tallinn:20241114T180000
DTEND;TZID=Europe/Tallinn:20241114T190000
DTSTAMP:20260419T225517
CREATED:20241105T124118Z
LAST-MODIFIED:20241105T124852Z
UID:7662-1731607200-1731610800@chess-eu.cs.ut.ee
SUMMARY:RIA CyberMeetUp: CHESS Edition 14//11/2024
DESCRIPTION:The next ??? ???????????: ????? ???????\, will take place on Thursday\, November 14th at 18:00 at the Palo Alto Club (Telliskivi 57\, Tallinn). \nThis gathering is special\, as we will be collaborating with our partner-project – ????? ?????-???????? ?????????? ???. For the occasion\, we’ve invited experts from both the Czech Republic and Estonia to the stage. The programme will also feature the traditional overview of the threat landscape\, presented this time by the Estonian IT Centre. \n???? ?? ???????? (??:??-??:??): \n???????? ?? ?????? – Threat Landscape: Cybersecurity Insights from the Estonian IT Centre.\n????? Č????? (Associate Professor in Informatics\, Masaryk University) – Innovating Tabletop Exercises for Crisis Preparedness and Resilience.\n?????? ????áš (Professor and CHESS Project Coordinator\, Masaryk University) – Analysing Security Certification Artifacts with sec-certs.\n?????? ??????? (Junior Researcher\, Cybernetica) & ?????????? ???????? (Junior Researcher\, Cybernetica) – Post-quantum cryptography: state-of-the-art\, migration and future problems. \nThe first part of the event (18:00-19:00) will be broadcasted on RIA’s YouTube\, Facebook\, and LinkedIn channels. \nStarting at ??:??\, we’ll continue with informal discussions for a few hours. Refreshments will be provided to keep the discussions going. \nLet’s MeetUp on November 14th! \nThe event is co-funded by the European Union and the European Cybersecurity Competence Centre.
URL:https://chess-eu.cs.ut.ee/event/%f0%9d%90%91%f0%9d%90%88%f0%9d%90%80-%f0%9d%90%82%f0%9d%90%b2%f0%9d%90%9b%f0%9d%90%9e%f0%9d%90%ab%f0%9d%90%8c%f0%9d%90%9e%f0%9d%90%9e%f0%9d%90%ad%f0%9d%90%94%f0%9d%90%a9-%f0%9d%90%82%f0%9d%90%87/
LOCATION:Palo Alto Club\, Telliskivi 57\, Tallinn\, Estonia
END:VEVENT
BEGIN:VEVENT
DTSTART;VALUE=DATE:20241115
DTEND;VALUE=DATE:20241116
DTSTAMP:20260419T225517
CREATED:20241010T115620Z
LAST-MODIFIED:20241010T120339Z
UID:7527-1731628800-1731715199@chess-eu.cs.ut.ee
SUMMARY:PROTECT 2024
DESCRIPTION:The Current and Future Roles of AI in Protecting Critical Infrastructures\n\nThe workshop focuses on the current and future roles of AI in improving the methods for protecting critical infrastructures. The workshop brings together researchers and practitioners in the field and provides an informal platform for exchanging ideas and initiating new collaborations. \nDate: November 15\, 2024\nPlace: KYPO\, Faculty of Informatics\, Masaryk University\, Botanická 68a\, 60200 Brno\, CZ\nContact: Antonín Kučera (FI MUNI)\, Vojtěch Řehák (FI MUNI) \n\n\nThe Program includes invited presentations and tool demos. Coffee\, light snacks\, and lunch are provided by the organizers\, and there is enough space for informal communication. \n\n\n\n8:40 – 9:00\nRegistration\n\n\n9:00 – 9:10\nOpening\n\n\n9:10 – 10:30\nTalks I\n\n\n10:30 – 11:00\nCoffee Break\n\n\n11:00 – 12:00\nTalks II\n\n\n12:00 – 13:00\nLunch (preceded by a group photo)\n\n\n13:00 – 14:15\nTalks III\n\n\n14:15 – 14:45\nCoffee Break\n\n\n14:45 – 16:00\nPanel\n\n\n16:00\nClosing\n\n\n\n\nFind more details: https://formela.fi.muni.cz/events/protect-2024 \n  \n\n* The event is funded by the European Union under the Grant Agreement No. 101087529.
URL:https://chess-eu.cs.ut.ee/event/protect-2024/
LOCATION:KYPO\, Faculty of Informatics\, Masaryk University\, Botanická 68a\, Brno\, 60200\, Czech Republic
END:VEVENT
END:VCALENDAR